{
 "currentVersion": 10.9,
 "cimVersion": "2.8.0",
 "serviceDescription": "",
 "mapName": "マップ",
 "description": "",
 "copyrightText": "",
 "supportsDynamicLayers": false,
 "layers": [
  {
   "id": 0,
   "name": "OrthoMosaic_WM_ALL_500m (1).tif",
   "parentLayerId": -1,
   "defaultVisibility": true,
   "subLayerIds": null,
   "minScale": 0,
   "maxScale": 0,
   "type": "Raster Layer",
   "supportsDynamicLegends": true
  }
 ],
 "tables": [],
 "spatialReference": {
  "wkid": 32652,
  "latestWkid": 32652,
  "xyTolerance": 0.001,
  "zTolerance": 0.001,
  "mTolerance": 0.001,
  "falseX": -5120900,
  "falseY": -9998100,
  "xyUnits": 10000,
  "falseZ": -100000,
  "zUnits": 10000,
  "falseM": -100000,
  "mUnits": 10000
 },
 "singleFusedMapCache": true,
 "tileInfo": {
  "rows": 256,
  "cols": 256,
  "dpi": 96,
  "format": "Mixed",
  "compressionQuality": 75,
  "origin": {
   "x": -9497963.94301857,
   "y": 9997963.94301857
  },
  "spatialReference": {
   "wkid": 32652,
   "latestWkid": 32652,
   "xyTolerance": 0.001,
   "zTolerance": 0.001,
   "mTolerance": 0.001,
   "falseX": -5120900,
   "falseY": -9998100,
   "xyUnits": 10000,
   "falseZ": -100000,
   "zUnits": 10000,
   "falseM": -100000,
   "mUnits": 10000
  },
  "lods": [
   {
    "level": 0,
    "resolution": 78109.09330483258,
    "scale": 2.952154707584223E8
   },
   {
    "level": 1,
    "resolution": 39054.54665241629,
    "scale": 1.4760773537921116E8
   },
   {
    "level": 2,
    "resolution": 19527.273326208146,
    "scale": 7.380386768960558E7
   },
   {
    "level": 3,
    "resolution": 9763.636663104073,
    "scale": 3.690193384480279E7
   },
   {
    "level": 4,
    "resolution": 4881.818331552036,
    "scale": 1.8450966922401395E7
   },
   {
    "level": 5,
    "resolution": 2440.909165776018,
    "scale": 9225483.461200697
   },
   {
    "level": 6,
    "resolution": 1220.454582888009,
    "scale": 4612741.730600349
   },
   {
    "level": 7,
    "resolution": 610.2272914440045,
    "scale": 2306370.8653001743
   },
   {
    "level": 8,
    "resolution": 305.1136457220023,
    "scale": 1153185.4326500872
   },
   {
    "level": 9,
    "resolution": 152.55682286100114,
    "scale": 576592.7163250436
   },
   {
    "level": 10,
    "resolution": 76.27841143050057,
    "scale": 288296.3581625218
   },
   {
    "level": 11,
    "resolution": 38.139205715250284,
    "scale": 144148.1790812609
   },
   {
    "level": 12,
    "resolution": 19.069602857625142,
    "scale": 72074.08954063045
   },
   {
    "level": 13,
    "resolution": 9.534801428812571,
    "scale": 36037.044770315224
   },
   {
    "level": 14,
    "resolution": 4.7674007144062855,
    "scale": 18018.522385157612
   },
   {
    "level": 15,
    "resolution": 2.3837003572031428,
    "scale": 9009.261192578806
   },
   {
    "level": 16,
    "resolution": 1.1918501786015714,
    "scale": 4504.630596289403
   },
   {
    "level": 17,
    "resolution": 0.5959250893007857,
    "scale": 2252.3152981447015
   },
   {
    "level": 18,
    "resolution": 0.29796254465039285,
    "scale": 1126.1576490723508
   }
  ]
 },
 "initialExtent": {
  "xmin": 2609.4153996662353,
  "ymin": 2555700.5123207085,
  "xmax": 969076.7178873217,
  "ymax": 3370757.881356585,
  "spatialReference": {
   "wkid": 32652,
   "latestWkid": 32652,
   "xyTolerance": 0.001,
   "zTolerance": 0.001,
   "mTolerance": 0.001,
   "falseX": -5120900,
   "falseY": -9998100,
   "xyUnits": 10000,
   "falseZ": -100000,
   "zUnits": 10000,
   "falseM": -100000,
   "mUnits": 10000
  }
 },
 "fullExtent": {
  "xmin": -134074.95142207795,
  "ymin": 2644940.7134773964,
  "xmax": 744531.6872030626,
  "ymax": 3026955.8435415127,
  "spatialReference": {
   "wkid": 32652,
   "latestWkid": 32652,
   "xyTolerance": 0.001,
   "zTolerance": 0.001,
   "mTolerance": 0.001,
   "falseX": -5120900,
   "falseY": -9998100,
   "xyUnits": 10000,
   "falseZ": -100000,
   "zUnits": 10000,
   "falseM": -100000,
   "mUnits": 10000
  }
 },
 "units": "esriMeters",
 "supportedImageFormatTypes": "PNG32,PNG24,PNG,JPG,DIB,TIFF,EMF,PS,PDF,GIF,SVG,SVGZ,BMP",
 "documentInfo": {
  "Title": "C:\\arc\\karuishi\\karuishi\\karuishi.aprx",
  "Author": "",
  "Comments": "",
  "Subject": "",
  "Category": "",
  "AntialiasingMode": "None",
  "TextAntialiasingMode": "Force",
  "Version": "2.8.0",
  "Keywords": ""
 },
 "supportedQueryFormats": "JSON, geoJSON, PBF",
 "referenceScale": 0.0,
 "supportsDatumTransformation": true,
 "archivingInfo": {
  "supportsHistoricMoment": false
 },
 "supportsClipping": true,
 "supportsSpatialFilter": true,
 "supportsTimeRelation": true,
 "supportsQueryDataElements": true,
 "maxRecordCount": 1000,
 "maxImageHeight": 4096,
 "maxImageWidth": 4096,
 "capabilities": "TilesOnly,Tilemap",
 "minScale": 4612741.730600349,
 "maxScale": 144148.1790812609,
 "exportTilesAllowed": false,
 "maxExportTilesCount": 100000,
 "supportedExtensions": "",
 "serviceItemId": "97922254a00b4185bc8e2bbfae42ef1c"
}
