View In:
ArcGIS JavaScript
ArcGIS Online Map Viewer
ArcGIS Earth
ArcGIS Pro
Service Description:
Map Name: OrthoMosaic_WM_ALL_500m__2__tif
Legend
All Layers and Tables
Layers:
Description:
Service Item Id: ee36204458ff4229a9e2fcbd91b93bb9
Copyright Text:
Spatial Reference:
102100
(3857)
LatestVCSWkid(0)
Single Fused Map Cache: true
Tile Info:
- Height: 256
- Width: 256
- DPI: 96
-
Levels of Detail: 24
-
Level ID: 1
[ Start Tile, End Tile ]
- Resolution: 78271.5169639999
- Scale: 2.95828763795777E8
-
Level ID: 2
[ Start Tile, End Tile ]
- Resolution: 39135.7584820001
- Scale: 1.47914381897889E8
-
Level ID: 3
[ Start Tile, End Tile ]
- Resolution: 19567.8792409999
- Scale: 7.3957190948944E7
-
Level ID: 4
[ Start Tile, End Tile ]
- Resolution: 9783.93962049996
- Scale: 3.6978595474472E7
-
Level ID: 5
[ Start Tile, End Tile ]
- Resolution: 4891.96981024998
- Scale: 1.8489297737236E7
- Format: Mixed
- Compression Quality: 75.0
- Origin: X: -2.0037508342787E7
Y: 2.0037508342787E7
- Spatial Reference: 102100
(3857)
LatestVCSWkid(0)
Storage Info:
- Storage Format: esriMapCacheStorageModeCompactV2
- Packet Size: 128
Initial Extent:
XMin: 1.36676094813E7
YMin: 2743191.1804
XMax: 1.46276203381E7
YMax: 3151880.8614
Spatial Reference: 102100
(3857)
LatestVCSWkid(0)
Full Extent:
XMin: 1.36676094813E7
YMin: 2743191.1804
XMax: 1.46276203381E7
YMax: 3151880.8614
Spatial Reference: 102100
(3857)
LatestVCSWkid(0)
Units: esriMeters
Supported Image Format Types:
Document Info:
Supports Dynamic Layers: false
Resampling: true
MaxRecordCount: 0
MaxImageHeight: 0
MaxImageWidth: 0
Supported Query Formats:
Supports Query Data Elements:
Min Scale: 0
Max Scale: 0
Min LOD: 6
Max LOD: 12
Child Resources:
Info
Supported Operations:
QueryLegends
Return Updates